BEGIN:VCALENDAR
VERSION:2.0
PRODID:icalendar-ruby
CALSCALE:GREGORIAN
METHOD:PUBLISH
BEGIN:VEVENT
DTSTAMP:20260423T220207Z
UID:404-539370@stpeterscalgary.org
DTSTART:20260917T010000Z
DTEND:20260917T020000Z
CLASS:PUBLIC
CREATED:20260423T154221
DESCRIPTION:START DATE UPDATE: Join us each week at 7 PM\, starting May 13\
 , for Wednesday Word &amp\; Worship\, a gathering for praise\, study and p
 rayer\, in the Cormack Hall at St. Peter's. We'll start with a few contemp
 orary worship songs\, break into small groups to read and discuss a passag
 e from Scripture\, then reconvene for a time of prayer and conclude with a
 nother song or two. This contempo-casual evening will last about an hour. 
 Come as you are ... but don't assume you'll stay that way.
LAST-MODIFIED:20260423T154221
LOCATION:Cormack Hall
SUMMARY:Wednesday Word & Worship
URL;VALUE=URI:https://www.stpeterscalgary.org/events/wednesday-word-worship
 /2026-09-16
ATTACH;FILENAME=WWW.png;FMTTYPE=image/png:https://dq5pwpg1q8ru0.cloudfront.
 net/2026/04/16/20/27/20/9a851650-e837-4e0d-b2a2-bb9beb64e189/WWW.png
END:VEVENT
END:VCALENDAR
