BEGIN:VCALENDAR
VERSION:2.0
PRODID:icalendar-ruby
CALSCALE:GREGORIAN
METHOD:PUBLISH
BEGIN:VEVENT
DTSTAMP:20260420T071640Z
UID:404-533018@stpeterscalgary.org
DTSTART:20260507T010000Z
DTEND:20260507T020000Z
CLASS:PUBLIC
CREATED:20260419T231221
DESCRIPTION:Join us each week starting April 29 for Wednesday Word &amp\; W
 orship\, a gathering for praise\, study and prayer\, in the Main Sanctuary
  at St. Peter's. We'll start with a few contemporary worship songs\, break
  into small groups to read and discuss a passage from Scripture\, then rec
 onvene for a time of prayer and conclude with another song or two. This co
 ntempo-casual evening will last about an hour. Come as you are ... but don
 't assume you'll stay that way.
LAST-MODIFIED:20260419T231221
LOCATION:Main Sanctuary
SUMMARY:Wednesday Word & Worship
URL;VALUE=URI:https://www.stpeterscalgary.org/events/wednesday-word-worship
 /2026-05-06
ATTACH;FILENAME=WWW.png;FMTTYPE=image/png:https://dq5pwpg1q8ru0.cloudfront.
 net/2026/04/16/20/27/20/9a851650-e837-4e0d-b2a2-bb9beb64e189/WWW.png
END:VEVENT
END:VCALENDAR
