BEGIN:VCALENDAR
VERSION:2.0
PRODID:icalendar-ruby
CALSCALE:GREGORIAN
METHOD:PUBLISH
BEGIN:VEVENT
DTSTAMP:20260422T220429Z
UID:365-537565@stpeterscalgary.org
DTSTART:20260819T160000Z
DTEND:20260819T170000Z
CLASS:PUBLIC
CREATED:20260422T132129
DESCRIPTION:You're invited to join us in our Chapel each week\, as we gathe
 r on Wednesday mornings at 10 for Holy Communion from the Book of Comm
 on Prayer (BCP). All are welcome!
LAST-MODIFIED:20260422T132129
LOCATION:St. Peter's Chapel
SUMMARY:Mid-Week Holy Communion
URL;VALUE=URI:https://www.stpeterscalgary.org/events/mid-week-holy-communio
 n/2026-08-19
ATTACH;FILENAME=Communion.jpg;FMTTYPE=image/jpeg:https://dq5pwpg1q8ru0.clou
 dfront.net/2025/12/18/23/57/20/a3e11c7d-ba48-40c4-89af-840819038d81/Commun
 ion.jpg
END:VEVENT
END:VCALENDAR
