BEGIN:VCALENDAR
VERSION:2.0
PRODID:icalendar-ruby
CALSCALE:GREGORIAN
METHOD:PUBLISH
BEGIN:VEVENT
DTSTAMP:20260420T052049Z
UID:402-527287@stpeterscalgary.org
DTSTART;VALUE=DATE:20260501
DTEND;VALUE=DATE:20260502
CLASS:PUBLIC
CREATED:20260416T133704
DESCRIPTION:Friday\, May 1: 10 AM - 7 PM\nSaturday\, May 2: 9 AM - 3 PM
LAST-MODIFIED:20260416T133704
LOCATION:
SUMMARY:ACW Spring Rummage Sale
URL;VALUE=URI:https://www.stpeterscalgary.org/events/acw-spring-rummage-sal
 e/2026-05-01
ATTACH;FILENAME=Spring rummage sale newsletter 2026.png;FMTTYPE=image/png:h
 ttps://dq5pwpg1q8ru0.cloudfront.net/2026/04/16/19/35/25/44c28ddc-8190-4b3e
 -9e85-af524dafddee/Spring%20rummage%20sale%20newsletter%202026.png
END:VEVENT
END:VCALENDAR
