BEGIN:VCALENDAR
VERSION:2.0
PRODID:icalendar-ruby
CALSCALE:GREGORIAN
METHOD:PUBLISH
BEGIN:VEVENT
DTSTAMP:20260424T013418Z
UID:405-539315@stpeterscalgary.org
DTSTART:20260426T160000Z
DTEND:20260426T174500Z
CLASS:PUBLIC
CREATED:20260423T153213
DESCRIPTION:I am the good shepherd\, says the Lord: I know my own and my ow
 n know me. John 10.14\nSERVICE OF HOLY EUCHARIST\nLiturgy: Book of Alterna
 tive Services\nHymns and Sung Responses: Common Praise
LAST-MODIFIED:20260423T153213
LOCATION:
SUMMARY:"A Shepherd for Me and for Ewe"
URL;VALUE=URI:https://www.stpeterscalgary.org/events/a-shepherd-for-me-and-
 for-ewe/2026-04-26
ATTACH;FILENAME=A shepherd for me and for ewe.png;FMTTYPE=image/png:https:/
 /dq5pwpg1q8ru0.cloudfront.net/2026/04/23/21/32/13/a2eb8368-c152-4fa5-8293-
 08e714db7425/A%20shepherd%20for%20me%20and%20for%20ewe.png
END:VEVENT
END:VCALENDAR
